BEGIN:VCALENDAR
VERSION:2.0
PRODID:-//comunidadcristianarecuerdo.org - ECPv6.15.15//NONSGML v1.0//EN
CALSCALE:GREGORIAN
METHOD:PUBLISH
X-WR-CALNAME:comunidadcristianarecuerdo.org
X-ORIGINAL-URL:https://comunidadcristianarecuerdo.org
X-WR-CALDESC:Eventos para comunidadcristianarecuerdo.org
REFRESH-INTERVAL;VALUE=DURATION:PT1H
X-Robots-Tag:noindex
X-PUBLISHED-TTL:PT1H
BEGIN:VTIMEZONE
TZID:Europe/Madrid
BEGIN:DAYLIGHT
TZOFFSETFROM:+0100
TZOFFSETTO:+0200
TZNAME:CEST
DTSTART:20250330T010000
END:DAYLIGHT
BEGIN:STANDARD
TZOFFSETFROM:+0200
TZOFFSETTO:+0100
TZNAME:CET
DTSTART:20251026T010000
END:STANDARD
BEGIN:DAYLIGHT
TZOFFSETFROM:+0100
TZOFFSETTO:+0200
TZNAME:CEST
DTSTART:20260329T010000
END:DAYLIGHT
BEGIN:STANDARD
TZOFFSETFROM:+0200
TZOFFSETTO:+0100
TZNAME:CET
DTSTART:20261025T010000
END:STANDARD
BEGIN:DAYLIGHT
TZOFFSETFROM:+0100
TZOFFSETTO:+0200
TZNAME:CEST
DTSTART:20270328T010000
END:DAYLIGHT
BEGIN:STANDARD
TZOFFSETFROM:+0200
TZOFFSETTO:+0100
TZNAME:CET
DTSTART:20271031T010000
END:STANDARD
END:VTIMEZONE
BEGIN:VEVENT
DTSTART;TZID=Europe/Madrid:20260603T190000
DTEND;TZID=Europe/Madrid:20260603T210000
DTSTAMP:20260425T025133
CREATED:20260218T182127Z
LAST-MODIFIED:20260218T182205Z
UID:4945-1780513200-1780520400@comunidadcristianarecuerdo.org
SUMMARY:Asamblea General - Revisión del Curso
DESCRIPTION:
URL:https://comunidadcristianarecuerdo.org/evento/asamblea-general-revision-del-curso/
LOCATION:Colegio Ntra Sra Recuerdo\, Pza Duque de Pastranan\, 5\, Madrid\, Spain
ATTACH;FMTTYPE=image/jpeg:https://comunidadcristianarecuerdo.org/wp-content/uploads/2025/11/ejecutivo-de-negocios-femenino-dando-un-discurso-vp-2.jpg
END:VEVENT
BEGIN:VEVENT
DTSTART;TZID=Europe/Madrid:20260613T103000
DTEND;TZID=Europe/Madrid:20260613T140000
DTSTAMP:20260425T025133
CREATED:20260218T182331Z
LAST-MODIFIED:20260218T182331Z
UID:4947-1781346600-1781359200@comunidadcristianarecuerdo.org
SUMMARY:Eucaristía y Encuentro de Familias
DESCRIPTION:
URL:https://comunidadcristianarecuerdo.org/evento/eucaristia-y-encuentro-de-familias/
LOCATION:Colegio Ntra Sra Recuerdo\, Pza Duque de Pastranan\, 5\, Madrid\, Spain
ATTACH;FMTTYPE=image/jpeg:https://comunidadcristianarecuerdo.org/wp-content/uploads/2026/02/Pan.jpg
END:VEVENT
BEGIN:VEVENT
DTSTART;TZID=Europe/Madrid:20260623T200000
DTEND;TZID=Europe/Madrid:20260623T210000
DTSTAMP:20260425T025133
CREATED:20260218T182518Z
LAST-MODIFIED:20260218T182518Z
UID:4951-1782244800-1782248400@comunidadcristianarecuerdo.org
SUMMARY:Eucaristía de Acción de Gracias por el curso
DESCRIPTION:
URL:https://comunidadcristianarecuerdo.org/evento/eucaristia-de-accion-de-gracias-por-el-curso/
ATTACH;FMTTYPE=image/jpeg:https://comunidadcristianarecuerdo.org/wp-content/uploads/2026/02/Pan.jpg
END:VEVENT
BEGIN:VEVENT
DTSTART;TZID=Europe/Madrid:20260630T193000
DTEND;TZID=Europe/Madrid:20260630T210000
DTSTAMP:20260425T025133
CREATED:20260218T182647Z
LAST-MODIFIED:20260218T182647Z
UID:4953-1782847800-1782853200@comunidadcristianarecuerdo.org
SUMMARY:Reunión de Áreas
DESCRIPTION:
URL:https://comunidadcristianarecuerdo.org/evento/reunion-de-areas-2/
LOCATION:Colegio Ntra Sra Recuerdo\, Pza Duque de Pastranan\, 5\, Madrid\, Spain
ATTACH;FMTTYPE=image/jpeg:https://comunidadcristianarecuerdo.org/wp-content/uploads/2025/11/retiro-comunidad-cristiana-del-recuerdo-colegio-scaled-1.jpeg
END:VEVENT
END:VCALENDAR