BEGIN:VCALENDAR
VERSION:2.0
PRODID:-//comunidadcristianarecuerdo.org - ECPv6.15.15//NONSGML v1.0//EN
CALSCALE:GREGORIAN
METHOD:PUBLISH
X-ORIGINAL-URL:https://comunidadcristianarecuerdo.org
X-WR-CALDESC:Eventos para comunidadcristianarecuerdo.org
REFRESH-INTERVAL;VALUE=DURATION:PT1H
X-Robots-Tag:noindex
X-PUBLISHED-TTL:PT1H
BEGIN:VTIMEZONE
TZID:Europe/Madrid
BEGIN:DAYLIGHT
TZOFFSETFROM:+0100
TZOFFSETTO:+0200
TZNAME:CEST
DTSTART:20250330T010000
END:DAYLIGHT
BEGIN:STANDARD
TZOFFSETFROM:+0200
TZOFFSETTO:+0100
TZNAME:CET
DTSTART:20251026T010000
END:STANDARD
BEGIN:DAYLIGHT
TZOFFSETFROM:+0100
TZOFFSETTO:+0200
TZNAME:CEST
DTSTART:20260329T010000
END:DAYLIGHT
BEGIN:STANDARD
TZOFFSETFROM:+0200
TZOFFSETTO:+0100
TZNAME:CET
DTSTART:20261025T010000
END:STANDARD
BEGIN:DAYLIGHT
TZOFFSETFROM:+0100
TZOFFSETTO:+0200
TZNAME:CEST
DTSTART:20270328T010000
END:DAYLIGHT
BEGIN:STANDARD
TZOFFSETFROM:+0200
TZOFFSETTO:+0100
TZNAME:CET
DTSTART:20271031T010000
END:STANDARD
END:VTIMEZONE
BEGIN:VEVENT
DTSTART;TZID=Europe/Madrid:20260325T193000
DTEND;TZID=Europe/Madrid:20260325T203000
DTSTAMP:20260425T030342
CREATED:20260218T180114Z
LAST-MODIFIED:20260218T180114Z
UID:4922-1774467000-1774470600@comunidadcristianarecuerdo.org
SUMMARY:Liturgia de la Reconciliación
DESCRIPTION:Capilla
URL:https://comunidadcristianarecuerdo.org/evento/liturgia-de-la-reconciliacion/
LOCATION:Colegio Ntra Sra Recuerdo\, Pza Duque de Pastranan\, 5\, Madrid\, Spain
ATTACH;FMTTYPE=image/jpeg:https://comunidadcristianarecuerdo.org/wp-content/uploads/2025/11/Freepik-pareja-mayor-manos-de-valor-en-cartera-juntos-scaled.jpg
END:VEVENT
END:VCALENDAR