BEGIN:VCALENDAR
VERSION:2.0
PRODID:-//comunidadcristianarecuerdo.org - ECPv6.15.15//NONSGML v1.0//EN
CALSCALE:GREGORIAN
METHOD:PUBLISH
X-WR-CALNAME:comunidadcristianarecuerdo.org
X-ORIGINAL-URL:https://comunidadcristianarecuerdo.org
X-WR-CALDESC:Eventos para comunidadcristianarecuerdo.org
REFRESH-INTERVAL;VALUE=DURATION:PT1H
X-Robots-Tag:noindex
X-PUBLISHED-TTL:PT1H
BEGIN:VTIMEZONE
TZID:Europe/Madrid
BEGIN:DAYLIGHT
TZOFFSETFROM:+0100
TZOFFSETTO:+0200
TZNAME:CEST
DTSTART:20250330T010000
END:DAYLIGHT
BEGIN:STANDARD
TZOFFSETFROM:+0200
TZOFFSETTO:+0100
TZNAME:CET
DTSTART:20251026T010000
END:STANDARD
BEGIN:DAYLIGHT
TZOFFSETFROM:+0100
TZOFFSETTO:+0200
TZNAME:CEST
DTSTART:20260329T010000
END:DAYLIGHT
BEGIN:STANDARD
TZOFFSETFROM:+0200
TZOFFSETTO:+0100
TZNAME:CET
DTSTART:20261025T010000
END:STANDARD
BEGIN:DAYLIGHT
TZOFFSETFROM:+0100
TZOFFSETTO:+0200
TZNAME:CEST
DTSTART:20270328T010000
END:DAYLIGHT
BEGIN:STANDARD
TZOFFSETFROM:+0200
TZOFFSETTO:+0100
TZNAME:CET
DTSTART:20271031T010000
END:STANDARD
END:VTIMEZONE
BEGIN:VEVENT
DTSTART;TZID=Europe/Madrid:20260520T193000
DTEND;TZID=Europe/Madrid:20260520T203000
DTSTAMP:20260425T042930
CREATED:20260218T181815Z
LAST-MODIFIED:20260218T181815Z
UID:4939-1779305400-1779309000@comunidadcristianarecuerdo.org
SUMMARY:Reunión de Coordinadores
DESCRIPTION:
URL:https://comunidadcristianarecuerdo.org/evento/reunion-de-coordinadores-3/
LOCATION:Colegio Ntra Sra Recuerdo\, Pza Duque de Pastranan\, 5\, Madrid\, Spain
ATTACH;FMTTYPE=image/jpeg:https://comunidadcristianarecuerdo.org/wp-content/uploads/2025/11/ejecutivo-de-negocios-femenino-dando-un-discurso-vp-2.jpg
END:VEVENT
END:VCALENDAR